BEGIN:VCALENDAR
VERSION:2.0
PRODID:-//BIOGEOS - ECPv6.15.20//NONSGML v1.0//EN
CALSCALE:GREGORIAN
METHOD:PUBLISH
X-WR-CALNAME:BIOGEOS
X-ORIGINAL-URL:https://biogeos.epfl.ch
X-WR-CALDESC:Events for BIOGEOS
REFRESH-INTERVAL;VALUE=DURATION:PT1H
X-Robots-Tag:noindex
X-PUBLISHED-TTL:PT1H
BEGIN:VTIMEZONE
TZID:Europe/Copenhagen
BEGIN:DAYLIGHT
TZOFFSETFROM:+0100
TZOFFSETTO:+0200
TZNAME:CEST
DTSTART:20210328T010000
END:DAYLIGHT
BEGIN:STANDARD
TZOFFSETFROM:+0200
TZOFFSETTO:+0100
TZNAME:CET
DTSTART:20211031T010000
END:STANDARD
BEGIN:DAYLIGHT
TZOFFSETFROM:+0100
TZOFFSETTO:+0200
TZNAME:CEST
DTSTART:20220327T010000
END:DAYLIGHT
BEGIN:STANDARD
TZOFFSETFROM:+0200
TZOFFSETTO:+0100
TZNAME:CET
DTSTART:20221030T010000
END:STANDARD
BEGIN:DAYLIGHT
TZOFFSETFROM:+0100
TZOFFSETTO:+0200
TZNAME:CEST
DTSTART:20230326T010000
END:DAYLIGHT
BEGIN:STANDARD
TZOFFSETFROM:+0200
TZOFFSETTO:+0100
TZNAME:CET
DTSTART:20231029T010000
END:STANDARD
END:VTIMEZONE
BEGIN:VEVENT
DTSTART;TZID=Europe/Copenhagen:20220505T093000
DTEND;TZID=Europe/Copenhagen:20220505T103000
DTSTAMP:20260422T010123
CREATED:20220430T105228Z
LAST-MODIFIED:20221007T090907Z
UID:1091-1651743000-1651746600@biogeos.epfl.ch
SUMMARY:ICSMGE 2022 Presentation "Minimally Invasive Soil Treatment Based on Bio-Grout" by Dr. Dimitrios Terzis
DESCRIPTION:Dr. Dimitrios Terzis will present his recent work on “Minimally Invasive Soil Treatment Based on Bio-Grout” at 20th International Conference on Soil Mechanics and Geotechnical Engineering and the 7th iYGEC in Sydney.
URL:https://biogeos.epfl.ch/event/icsmge-2022-presentation-minimally-invasive-soil-treatment-based-on-bio-grout-by-dr-dimitrios-terzis/
CATEGORIES:Conférence
ATTACH;FMTTYPE=image/jpeg:https://biogeos.epfl.ch/wp-content/uploads/2022/04/1651083093386.jpg
END:VEVENT
END:VCALENDAR