BEGIN:VCALENDAR
VERSION:2.0
PRODID:-//BIOGEOS - ECPv6.15.20//NONSGML v1.0//EN
CALSCALE:GREGORIAN
METHOD:PUBLISH
X-WR-CALNAME:BIOGEOS
X-ORIGINAL-URL:https://biogeos.epfl.ch
X-WR-CALDESC:Events for BIOGEOS
REFRESH-INTERVAL;VALUE=DURATION:PT1H
X-Robots-Tag:noindex
X-PUBLISHED-TTL:PT1H
BEGIN:VTIMEZONE
TZID:Europe/Copenhagen
BEGIN:DAYLIGHT
TZOFFSETFROM:+0100
TZOFFSETTO:+0200
TZNAME:CEST
DTSTART:20210328T010000
END:DAYLIGHT
BEGIN:STANDARD
TZOFFSETFROM:+0200
TZOFFSETTO:+0100
TZNAME:CET
DTSTART:20211031T010000
END:STANDARD
BEGIN:DAYLIGHT
TZOFFSETFROM:+0100
TZOFFSETTO:+0200
TZNAME:CEST
DTSTART:20220327T010000
END:DAYLIGHT
BEGIN:STANDARD
TZOFFSETFROM:+0200
TZOFFSETTO:+0100
TZNAME:CET
DTSTART:20221030T010000
END:STANDARD
BEGIN:DAYLIGHT
TZOFFSETFROM:+0100
TZOFFSETTO:+0200
TZNAME:CEST
DTSTART:20230326T010000
END:DAYLIGHT
BEGIN:STANDARD
TZOFFSETFROM:+0200
TZOFFSETTO:+0100
TZNAME:CET
DTSTART:20231029T010000
END:STANDARD
END:VTIMEZONE
BEGIN:VEVENT
DTSTART;TZID=Europe/Copenhagen:20220601T143500
DTEND;TZID=Europe/Copenhagen:20220601T145000
DTSTAMP:20260420T132635
CREATED:20220520T103723Z
LAST-MODIFIED:20221007T090816Z
UID:1103-1654094100-1654095000@biogeos.epfl.ch
SUMMARY:Interpore 2022 Presentation by Ariadni Elmaloglou
DESCRIPTION:Biogeos PhD Candidate Ariadni Elmaloglou will present her work on “A quantitative study of the effect of pore-scale heterogeneity on MICP in meter-long microfluidic porous media analogues”  at Interpore 2022 in Abu Dhabi.
URL:https://biogeos.epfl.ch/event/ariadni-elmaloglou-will-present-her-work-at-interpore-2022/
LOCATION:Khalifa University\, United Arab Emirates
CATEGORIES:Conférence
ATTACH;FMTTYPE=image/png:https://biogeos.epfl.ch/wp-content/uploads/2022/05/share_image_1653126265160.png
END:VEVENT
END:VCALENDAR